BEGIN:VCALENDAR
VERSION:2.0
PRODID:-//hacksw/handcal//NONSGML v1.0//EN
BEGIN:VEVENT
SUMMARY:SORTIE CLUB LOISIRS a BARBOTAN LES THERMES
UID:f29b8c9d-0a2c-4279-862a-32ee84e73a8f
DTSTART:20260429T060000Z
DTEND:20260429T150000Z
LOCATION:Localisation   
CATEGORIES:Sportif
STATUS:
URL;VALUE=URI:https://www.cycloaturin.com/evenements/2026/04/29/sortie-club-loisirs-a-barbotan-les-thermes-2438272
END:VEVENT
END:VCALENDAR
