BEGIN:VCALENDAR
VERSION:2.0
PRODID:-//hacksw/handcal//NONSGML v1.0//EN
BEGIN:VEVENT
SUMMARY:REUNION MENSUELLE D'AVRIL - 18H00
UID:7a3ada6a-9870-4ee5-a665-68f41aa440ac
DTSTART:20260428T160000Z
DTEND:20260428T220000Z
LOCATION:Localisation   
CATEGORIES:Administratif
STATUS:
URL;VALUE=URI:https://www.cycloaturin.com/evenements/2026/04/28/reunion-mensuelle-davril-18h00-2438273
END:VEVENT
END:VCALENDAR
