BEGIN:VCALENDAR
VERSION:2.0
PRODID:-//hacksw/handcal//NONSGML v1.0//EN
BEGIN:VEVENT
SUMMARY:RANDONNEE "RIVIERE BASSE" a ST GERME
UID:7ec7a870-46a0-4f8d-8876-1f5f68bdd6df
DTSTART:20260411T060000Z
DTEND:20260411T100000Z
LOCATION:Localisation   
CATEGORIES:Sportif
STATUS:
URL;VALUE=URI:https://www.cycloaturin.com/evenements/2026/04/11/randonnee-riviere-basse-a-st-germe-2438276
END:VEVENT
END:VCALENDAR
