BEGIN:VCALENDAR
VERSION:2.0
PRODID:-//hacksw/handcal//NONSGML v1.0//EN
BEGIN:VEVENT
SUMMARY:SORTIE "MONTAGNE" LES ALDUDES
UID:040a361f-0745-4d61-a953-8ed14fae0d12
DTSTART:20260408T050000Z
DTEND:20260408T140000Z
LOCATION:Localisation   
CATEGORIES:Sportif
STATUS:
URL;VALUE=URI:https://www.cycloaturin.com/evenements/2026/04/08/sortie-montagne-les-aldudes-2438271
END:VEVENT
END:VCALENDAR
